Workbook

Sheet 別紙（様式１）
B2: ※11月13日（金）までにご提出ください。
D9: ○様式１、様式２、様式３の行／列の挿入・削除は絶対に行わないで下さい。送付先リストのシートへ入力情報が正しく反映されません。
D10: ○計算式が設定されているセルの計算式の変更は行わないで下さい。
D11: ○様式を入力すれば、送付先リストに入力情報が反映されます。送付先リストへの入力はしないでください。
B13: 都道府県記入者確認表
B14: 都道府県 | D14: 医療用（サージカル） マスク | E14: N95マスク | F14: アイソレーションガウン（不織布製） | G14: アイソレーションガウン（プラスチック製） | H14: フェイスシールド
B15: 31 鳥取県 | C15: 希望数量（協定締結医療機関） | D15: ='別紙（様式１）'!J20 -> 0 | E15: ='別紙（様式１）'!K20 -> 0 | F15: ='別紙（様式１）'!L20 -> 0 | G15: ='別紙（様式１）'!M20 -> 0 | H15: ='別紙（様式１）'!N20 -> 0
C16: 希望数量（その他施設） | D16: ='別紙（様式２）'!J20 -> 0 | E16: ='別紙（様式２）'!K20 -> 0 | F16: ='別紙（様式２）'!L20 -> 0 | G16: ='別紙（様式２）'!M20 -> 0 | H16: ='別紙（様式２）'!N20 -> 0
C17: 合計 | D17: =SUM(D15:D16) -> 0 | E17: =SUM(E15:E16) -> 0 | F17: =SUM(F15:F16) -> 0 | G17: =SUM(G15:G16) -> 0 | H17: =SUM(H15:H16) -> 0
J19: 合計 | K19: 合計 | L19: 合計 | M19: 合計 | N19: 合計
J20: =SUM(J24:J33) -> 0 | K20: =SUM(K24:K33) -> 0 | L20: =SUM(L24:L33) -> 0 | M20: =SUM(M24:M33) -> 0 | N20: =SUM(N24:N33) -> 0
B21: 協定締結医療機関名称 | C21: 配送先名称１ ※協定締結医療機関名称と異なる場合のみ記載 | D21: 配送先名称２ （部署名） | E21: 郵便番号 （半角ハイフンなし） | F21: 配送先所住所１ ※都道府県名から記載 | G21: 配送先住所２ （建物名・階数） | H21: 配送先代表担当者名 ※配送先の代表担当者名が分からない場合は、部署名でも可 | I21: 配送先担当者の電話番号 （半角ハイフンなし） ※代表番号でも可 | J21: 医療用（サージカル）マスク 希望枚数 ※上限50,000枚（500枚単位） | K21: N95マスク 希望枚数 ※上限5,000枚（100枚単位） | L21: アイソレーションガウン 希望枚数 | N21: フェイスシールド 希望枚数 ※上限5,000枚（100枚単位） | O21: 備考 ※休診日など、連絡事項等あれば記載
L22: 不織布製 ※上限2,000枚（100枚単位） | M22: プラスチック製 ※上限2,000枚（100枚単位）
A23: 例 | B23: 厚労クリニック（例） | D23: 医療用物資等確保対策推進室 | E23: 1008916 | F23: 東京都千代田区霞が関1-2-2 | G23: 中央合同庁舎第５号館18階 | H23: 厚労太郎 | I23: 0352531111 | J23: 500 | K23: 100 | L23: 100 | M23: 100 | N23: 100 | O23: 土日祝日は受取不可
A24: 1
A25: 2
A26: 3
A27: 4
A28: 5
A29: 6
A30: 7
A31: 8
A32: 9
A33: 10

Sheet 別紙（様式２）
B2: ※11月13日（金）までにご提出ください。
D9: ○様式１、様式２、様式３の行／列の挿入・削除は絶対に行わないで下さい。送付先リストのシートへ入力情報が正しく反映されません。
D10: ○計算式が設定されているセルの計算式の変更は行わないで下さい。
D11: ○様式を入力すれば、送付先リストに入力情報が反映されます。送付先リストへの入力はしないでください。
B13: 様式１の同項目の転写
B14: 都道府県 | D14: 医療用（サージカル） マスク | E14: N95マスク | F14: アイソレーションガウン（不織布製） | G14: アイソレーションガウン（プラスチック製） | H14: フェイスシールド
B15: ='別紙（様式１）'!B15 -> 31 鳥取県 | C15: 希望数量（協定締結医療機関） | D15: ='別紙（様式１）'!J20 -> 0 | E15: ='別紙（様式１）'!K20 -> 0 | F15: ='別紙（様式１）'!L20 -> 0 | G15: ='別紙（様式１）'!M20 -> 0 | H15: ='別紙（様式１）'!N20 -> 0
C16: 希望数量（その他施設） | D16: ='別紙（様式２）'!J20 -> 0 | E16: ='別紙（様式２）'!K20 -> 0 | F16: ='別紙（様式２）'!L20 -> 0 | G16: ='別紙（様式２）'!M20 -> 0 | H16: ='別紙（様式２）'!N20 -> 0
C17: 合計 | D17: =SUM(D15:D16) -> 0 | E17: =SUM(E15:E16) -> 0 | F17: =SUM(F15:F16) -> 0 | G17: =SUM(G15:G16) -> 0 | H17: =SUM(H15:H16) -> 0
J19: 合計 | K19: 合計 | L19: 合計 | M19: 合計 | N19: 合計
J20: =SUM(J24:J988912) -> 0 | K20: =SUM(K24:K988912) -> 0 | L20: =SUM(L24:L988912) -> 0 | M20: =SUM(M24:M988912) -> 0 | N20: =SUM(N24:N988912) -> 0
B21: その他施設名称 | C21: 配送先名称１ ※その他施設名称と異なる場合のみ記載 | D21: 配送先名称２ （部署名） | E21: 郵便番号 （半角ハイフンなし） | F21: 配送先所住所１ ※都道府県名から記載 | G21: 配送先住所２ （建物名・階数） | H21: 配送先代表担当者名 ※配送先の代表担当者名が分からない場合は、部署名でも可 | I21: 配送先担当者の電話番号 （半角ハイフンなし） ※代表番号でも可 | J21: 医療用（サージカル）マスク 希望枚数 ※上限50,000枚（500枚単位） | K21: N95マスク 希望枚数 ※上限5,000枚（100枚単位） | L21: アイソレーションガウン 希望枚数 | N21: フェイスシールド 希望枚数 ※上限5,000枚（100枚単位） | O21: 備考 ※休診日など、連絡事項等あれば記載
L22: 不織布製 ※上限2,000枚（100枚単位） | M22: プラスチック製 ※上限2,000枚（100枚単位）
A23: 例 | B23: 厚労クリニック（例） | D23: 医療用物資等確保対策推進室 | E23: 1008916 | F23: 東京都千代田区霞が関1-2-2 | G23: 中央合同庁舎第５号館18階 | H23: 厚労太郎 | I23: 0352531111 | J23: 500 | K23: 100 | L23: 100 | M23: 100 | N23: 100 | O23: 土日祝日は受取不可
A24: 1
A25: 2
A26: 3
A27: 4
A28: 5
A29: 6
A30: 7
A31: 8
A32: 9
A33: 10

Sheet 都道府県一覧
A1: 特別配布
A2: 都道府県
A3: 選択してください
A4: 1 北海道
A5: 2 青森県
A6: 3 岩手県
A7: 4 宮城県
A8: 5 秋田県
A9: 6 山形県
A10: 7 福島県
A11: 8 茨城県
A12: 9 栃木県
... A50: 47 沖縄県
